BEGIN:VCALENDAR
VERSION:2.0
PRODID:https://www.kufer.de/kuferweb / DE
METHOD:PUBLISH
CALSCALE:GREGORIAN
X-WR-TIMEZONE:Europe/Berlin
BEGIN:VTIMEZONE
TZID:Europe/Berlin
X-LIC-LOCATION:Europe/Berlin
BEGIN:DAYLIGHT
TZOFFSETFROM:+0100
TZOFFSETTO:+0200
TZNAME:CEST
DTSTART:19700329T020000
RRULE:FREQ=YEARLY;INTERVAL=1;BYDAY=-1SU;BYMONTH=3
END:DAYLIGHT
BEGIN:STANDARD
TZOFFSETFROM:+0200
TZOFFSETTO:+0100
TZNAME:CET
DTSTART:19701025T030000
RRULE:FREQ=YEARLY;INTERVAL=1;BYDAY=-1SU;BYMONTH=10
END:STANDARD
END:VTIMEZONE
BEGIN:VEVENT
DTSTAMP:20260422T202547
DTSTART;TZID=Europe/Berlin:20261219T083000
DTEND;TZID=Europe/Berlin:20261219T163000
UID:261301169-20261219T083000@DRKKREISVERBAND RHEIN-ERFT E.V.
SUMMARY:Rotkreuzkurs Erste Hilfe (261301169) 
LOCATION:Haus der Begegnung, Reiner-Zimmermann-Straße 2, 50181 Bedburg
END:VEVENT
END:VCALENDAR