BEGIN:VCALENDAR
VERSION:2.0
PRODID:https://www.kufer.de/kuferweb / DE
METHOD:PUBLISH
CALSCALE:GREGORIAN
X-WR-TIMEZONE:Europe/Berlin
BEGIN:VTIMEZONE
TZID:Europe/Berlin
X-LIC-LOCATION:Europe/Berlin
BEGIN:DAYLIGHT
TZOFFSETFROM:+0100
TZOFFSETTO:+0200
TZNAME:CEST
DTSTART:19700329T020000
RRULE:FREQ=YEARLY;INTERVAL=1;BYDAY=-1SU;BYMONTH=3
END:DAYLIGHT
BEGIN:STANDARD
TZOFFSETFROM:+0200
TZOFFSETTO:+0100
TZNAME:CET
DTSTART:19701025T030000
RRULE:FREQ=YEARLY;INTERVAL=1;BYDAY=-1SU;BYMONTH=10
END:STANDARD
END:VTIMEZONE
BEGIN:VEVENT
DTSTAMP:20260424T160807
DTSTART;TZID=Europe/Berlin:20260928T083000
DTEND;TZID=Europe/Berlin:20260928T163000
UID:261602002-20260928T083000@DRKKREISVERBAND RHEIN-ERFT E.V.
SUMMARY:Betriebssanitäter - Aufbaulehrgang (261602002) 
LOCATION:Schulungsraum Bergheim-Mitte, Hauptstraße 25, 50126 Bergheim
END:VEVENT
BEGIN:VEVENT
DTSTAMP:20260424T160807
DTSTART;TZID=Europe/Berlin:20260929T083000
DTEND;TZID=Europe/Berlin:20260929T163000
UID:261602002-20260929T083000@DRKKREISVERBAND RHEIN-ERFT E.V.
SUMMARY:Betriebssanitäter - Aufbaulehrgang (261602002) 
LOCATION:Schulungsraum Bergheim-Mitte, Hauptstraße 25, 50126 Bergheim
END:VEVENT
BEGIN:VEVENT
DTSTAMP:20260424T160807
DTSTART;TZID=Europe/Berlin:20260930T083000
DTEND;TZID=Europe/Berlin:20260930T163000
UID:261602002-20260930T083000@DRKKREISVERBAND RHEIN-ERFT E.V.
SUMMARY:Betriebssanitäter - Aufbaulehrgang (261602002) 
LOCATION:Schulungsraum Bergheim-Mitte, Hauptstraße 25, 50126 Bergheim
END:VEVENT
BEGIN:VEVENT
DTSTAMP:20260424T160807
DTSTART;TZID=Europe/Berlin:20261001T083000
DTEND;TZID=Europe/Berlin:20261001T163000
UID:261602002-20261001T083000@DRKKREISVERBAND RHEIN-ERFT E.V.
SUMMARY:Betriebssanitäter - Aufbaulehrgang (261602002) 
LOCATION:Schulungsraum Bergheim-Mitte, Hauptstraße 25, 50126 Bergheim
END:VEVENT
BEGIN:VEVENT
DTSTAMP:20260424T160807
DTSTART;TZID=Europe/Berlin:20261001T083000
DTEND;TZID=Europe/Berlin:20261001T163000
UID:261602002-20261001T083000@DRKKREISVERBAND RHEIN-ERFT E.V.
DESCRIPTION:5 UE + Prüfung
SUMMARY:Betriebssanitäter - Aufbaulehrgang (261602002) 
LOCATION:Schulungsraum Bergheim-Mitte, Hauptstraße 25, 50126 Bergheim
END:VEVENT
BEGIN:VEVENT
DTSTAMP:20260424T160807
DTSTART;TZID=Europe/Berlin:20261002T083000
DTEND;TZID=Europe/Berlin:20261002T163000
UID:261602002-20261002T083000@DRKKREISVERBAND RHEIN-ERFT E.V.
SUMMARY:Betriebssanitäter - Aufbaulehrgang (261602002) 
LOCATION:Schulungsraum Bergheim-Mitte, Hauptstraße 25, 50126 Bergheim
END:VEVENT
END:VCALENDAR