BEGIN:VCALENDAR
VERSION:2.0
PRODID:https://www.kufer.de/kuferweb / DE
METHOD:PUBLISH
CALSCALE:GREGORIAN
X-WR-TIMEZONE:Europe/Berlin
BEGIN:VTIMEZONE
TZID:Europe/Berlin
X-LIC-LOCATION:Europe/Berlin
BEGIN:DAYLIGHT
TZOFFSETFROM:+0100
TZOFFSETTO:+0200
TZNAME:CEST
DTSTART:19700329T020000
RRULE:FREQ=YEARLY;INTERVAL=1;BYDAY=-1SU;BYMONTH=3
END:DAYLIGHT
BEGIN:STANDARD
TZOFFSETFROM:+0200
TZOFFSETTO:+0100
TZNAME:CET
DTSTART:19701025T030000
RRULE:FREQ=YEARLY;INTERVAL=1;BYDAY=-1SU;BYMONTH=10
END:STANDARD
END:VTIMEZONE
BEGIN:VEVENT
DTSTAMP:20260425T013244
DTSTART;TZID=Europe/Berlin:20261109T083000
DTEND;TZID=Europe/Berlin:20261109T160000
UID:261603008-20261109T083000@DRKKREISVERBAND RHEIN-ERFT E.V.
SUMMARY:Betriebssanitäter - Fortbildung (Fallbeispieltraining) (261603008) 
LOCATION:Schulungsraum Hürth, Hans-Böckler-Str. 172, 50354 Hürth
END:VEVENT
BEGIN:VEVENT
DTSTAMP:20260425T013244
DTSTART;TZID=Europe/Berlin:20261110T083000
DTEND;TZID=Europe/Berlin:20261110T160000
UID:261603008-20261110T083000@DRKKREISVERBAND RHEIN-ERFT E.V.
SUMMARY:Betriebssanitäter - Fortbildung (Fallbeispieltraining) (261603008) 
LOCATION:Schulungsraum Hürth, Hans-Böckler-Str. 172, 50354 Hürth
END:VEVENT
END:VCALENDAR