BEGIN:VCALENDAR
VERSION:2.0
PRODID:https://www.kufer.de/kuferweb / DE
METHOD:PUBLISH
CALSCALE:GREGORIAN
X-WR-TIMEZONE:Europe/Berlin
BEGIN:VTIMEZONE
TZID:Europe/Berlin
X-LIC-LOCATION:Europe/Berlin
BEGIN:DAYLIGHT
TZOFFSETFROM:+0100
TZOFFSETTO:+0200
TZNAME:CEST
DTSTART:19700329T020000
RRULE:FREQ=YEARLY;INTERVAL=1;BYDAY=-1SU;BYMONTH=3
END:DAYLIGHT
BEGIN:STANDARD
TZOFFSETFROM:+0200
TZOFFSETTO:+0100
TZNAME:CET
DTSTART:19701025T030000
RRULE:FREQ=YEARLY;INTERVAL=1;BYDAY=-1SU;BYMONTH=10
END:STANDARD
END:VTIMEZONE
BEGIN:VEVENT
DTSTAMP:20260422T200647
DTSTART;TZID=Europe/Berlin:20260601T180000
DTEND;TZID=Europe/Berlin:20260601T210000
UID:262201002-20260601T180000@DRKKREISVERBAND RHEIN-ERFT E.V.
SUMMARY:Abendlehrgang Sanitätsdienstausbildung (Nach SANbox) (262201002) 
LOCATION:Schulungsraum Bergheim-Kenten UG
END:VEVENT
BEGIN:VEVENT
DTSTAMP:20260422T200647
DTSTART;TZID=Europe/Berlin:20260602T180000
DTEND;TZID=Europe/Berlin:20260602T210000
UID:262201002-20260602T180000@DRKKREISVERBAND RHEIN-ERFT E.V.
SUMMARY:Abendlehrgang Sanitätsdienstausbildung (Nach SANbox) (262201002) 
LOCATION:Schulungsraum Bergheim-Kenten UG
END:VEVENT
BEGIN:VEVENT
DTSTAMP:20260422T200647
DTSTART;TZID=Europe/Berlin:20260603T180000
DTEND;TZID=Europe/Berlin:20260603T210000
UID:262201002-20260603T180000@DRKKREISVERBAND RHEIN-ERFT E.V.
SUMMARY:Abendlehrgang Sanitätsdienstausbildung (Nach SANbox) (262201002) 
LOCATION:Schulungsraum Bergheim-Kenten UG
END:VEVENT
BEGIN:VEVENT
DTSTAMP:20260422T200647
DTSTART;TZID=Europe/Berlin:20260613T090000
DTEND;TZID=Europe/Berlin:20260613T180000
UID:262201002-20260613T090000@DRKKREISVERBAND RHEIN-ERFT E.V.
SUMMARY:Abendlehrgang Sanitätsdienstausbildung (Nach SANbox) (262201002) 
LOCATION:Schulungsraum Bergheim-Kenten UG
END:VEVENT
BEGIN:VEVENT
DTSTAMP:20260422T200647
DTSTART;TZID=Europe/Berlin:20260614T090000
DTEND;TZID=Europe/Berlin:20260614T180000
UID:262201002-20260614T090000@DRKKREISVERBAND RHEIN-ERFT E.V.
SUMMARY:Abendlehrgang Sanitätsdienstausbildung (Nach SANbox) (262201002) 
LOCATION:Schulungsraum Bergheim-Kenten UG
END:VEVENT
BEGIN:VEVENT
DTSTAMP:20260422T200647
DTSTART;TZID=Europe/Berlin:20260617T180000
DTEND;TZID=Europe/Berlin:20260617T210000
UID:262201002-20260617T180000@DRKKREISVERBAND RHEIN-ERFT E.V.
SUMMARY:Abendlehrgang Sanitätsdienstausbildung (Nach SANbox) (262201002) 
LOCATION:Schulungsraum Bergheim-Kenten UG
END:VEVENT
BEGIN:VEVENT
DTSTAMP:20260422T200647
DTSTART;TZID=Europe/Berlin:20260618T180000
DTEND;TZID=Europe/Berlin:20260618T210000
UID:262201002-20260618T180000@DRKKREISVERBAND RHEIN-ERFT E.V.
SUMMARY:Abendlehrgang Sanitätsdienstausbildung (Nach SANbox) (262201002) 
LOCATION:Schulungsraum Bergheim-Kenten UG
END:VEVENT
BEGIN:VEVENT
DTSTAMP:20260422T200647
DTSTART;TZID=Europe/Berlin:20260619T180000
DTEND;TZID=Europe/Berlin:20260619T210000
UID:262201002-20260619T180000@DRKKREISVERBAND RHEIN-ERFT E.V.
SUMMARY:Abendlehrgang Sanitätsdienstausbildung (Nach SANbox) (262201002) 
LOCATION:Schulungsraum Bergheim-Kenten UG
END:VEVENT
BEGIN:VEVENT
DTSTAMP:20260422T200647
DTSTART;TZID=Europe/Berlin:20260622T180000
DTEND;TZID=Europe/Berlin:20260622T210000
UID:262201002-20260622T180000@DRKKREISVERBAND RHEIN-ERFT E.V.
SUMMARY:Abendlehrgang Sanitätsdienstausbildung (Nach SANbox) (262201002) 
LOCATION:Schulungsraum Bergheim-Kenten UG
END:VEVENT
BEGIN:VEVENT
DTSTAMP:20260422T200647
DTSTART;TZID=Europe/Berlin:20260623T180000
DTEND;TZID=Europe/Berlin:20260623T210000
UID:262201002-20260623T180000@DRKKREISVERBAND RHEIN-ERFT E.V.
SUMMARY:Abendlehrgang Sanitätsdienstausbildung (Nach SANbox) (262201002) 
LOCATION:Schulungsraum Bergheim-Kenten UG
END:VEVENT
BEGIN:VEVENT
DTSTAMP:20260422T200647
DTSTART;TZID=Europe/Berlin:20260624T180000
DTEND;TZID=Europe/Berlin:20260624T210000
UID:262201002-20260624T180000@DRKKREISVERBAND RHEIN-ERFT E.V.
SUMMARY:Abendlehrgang Sanitätsdienstausbildung (Nach SANbox) (262201002) 
LOCATION:Schulungsraum Bergheim-Kenten UG
END:VEVENT
BEGIN:VEVENT
DTSTAMP:20260422T200647
DTSTART;TZID=Europe/Berlin:20260627T090000
DTEND;TZID=Europe/Berlin:20260627T180000
UID:262201002-20260627T090000@DRKKREISVERBAND RHEIN-ERFT E.V.
SUMMARY:Abendlehrgang Sanitätsdienstausbildung (Nach SANbox) (262201002) 
LOCATION:Schulungsraum Bergheim-Kenten UG
END:VEVENT
BEGIN:VEVENT
DTSTAMP:20260422T200647
DTSTART;TZID=Europe/Berlin:20260628T090000
DTEND;TZID=Europe/Berlin:20260628T180000
UID:262201002-20260628T090000@DRKKREISVERBAND RHEIN-ERFT E.V.
SUMMARY:Abendlehrgang Sanitätsdienstausbildung (Nach SANbox) (262201002) 
LOCATION:Schulungsraum Bergheim-Kenten UG
END:VEVENT
BEGIN:VEVENT
DTSTAMP:20260422T200647
DTSTART;TZID=Europe/Berlin:20260704T090000
DTEND;TZID=Europe/Berlin:20260704T180000
UID:262201002-20260704T090000@DRKKREISVERBAND RHEIN-ERFT E.V.
DESCRIPTION:Prüfung
SUMMARY:Abendlehrgang Sanitätsdienstausbildung (Nach SANbox) (262201002) 
LOCATION:Schulungsraum Bergheim-Kenten UG
END:VEVENT
BEGIN:VEVENT
DTSTAMP:20260422T200647
DTSTART;TZID=Europe/Berlin:20260705T090000
DTEND;TZID=Europe/Berlin:20260705T180000
UID:262201002-20260705T090000@DRKKREISVERBAND RHEIN-ERFT E.V.
DESCRIPTION:Prüfung
SUMMARY:Abendlehrgang Sanitätsdienstausbildung (Nach SANbox) (262201002) 
LOCATION:Schulungsraum Bergheim-Kenten UG
END:VEVENT
END:VCALENDAR