BEGIN:VCALENDAR
VERSION:2.0
PRODID:https://www.kufer.de/kuferweb / DE
METHOD:PUBLISH
CALSCALE:GREGORIAN
X-WR-TIMEZONE:Europe/Berlin
BEGIN:VTIMEZONE
TZID:Europe/Berlin
X-LIC-LOCATION:Europe/Berlin
BEGIN:DAYLIGHT
TZOFFSETFROM:+0100
TZOFFSETTO:+0200
TZNAME:CEST
DTSTART:19700329T020000
RRULE:FREQ=YEARLY;INTERVAL=1;BYDAY=-1SU;BYMONTH=3
END:DAYLIGHT
BEGIN:STANDARD
TZOFFSETFROM:+0200
TZOFFSETTO:+0100
TZNAME:CET
DTSTART:19701025T030000
RRULE:FREQ=YEARLY;INTERVAL=1;BYDAY=-1SU;BYMONTH=10
END:STANDARD
END:VTIMEZONE
BEGIN:VEVENT
DTSTAMP:20260424T184949
DTSTART;TZID=Europe/Berlin:20260105T093000
DTEND;TZID=Europe/Berlin:20260105T103000
UID:263204001-20260105T093000@DRKKREISVERBAND RHEIN-ERFT E.V.
SUMMARY:Seniorengymnastik Bedburg - Fit für die Familie (263204001) 
LOCATION:Kinder und Jugendzentrum Point, Burgundische Straße 3, 50181 Bedburg
END:VEVENT
BEGIN:VEVENT
DTSTAMP:20260424T184949
DTSTART;TZID=Europe/Berlin:20260112T093000
DTEND;TZID=Europe/Berlin:20260112T103000
UID:263204001-20260112T093000@DRKKREISVERBAND RHEIN-ERFT E.V.
SUMMARY:Seniorengymnastik Bedburg - Fit für die Familie (263204001) 
LOCATION:Kinder und Jugendzentrum Point, Burgundische Straße 3, 50181 Bedburg
END:VEVENT
BEGIN:VEVENT
DTSTAMP:20260424T184949
DTSTART;TZID=Europe/Berlin:20260119T093000
DTEND;TZID=Europe/Berlin:20260119T103000
UID:263204001-20260119T093000@DRKKREISVERBAND RHEIN-ERFT E.V.
SUMMARY:Seniorengymnastik Bedburg - Fit für die Familie (263204001) 
LOCATION:Kinder und Jugendzentrum Point, Burgundische Straße 3, 50181 Bedburg
END:VEVENT
BEGIN:VEVENT
DTSTAMP:20260424T184949
DTSTART;TZID=Europe/Berlin:20260126T093000
DTEND;TZID=Europe/Berlin:20260126T103000
UID:263204001-20260126T093000@DRKKREISVERBAND RHEIN-ERFT E.V.
SUMMARY:Seniorengymnastik Bedburg - Fit für die Familie (263204001) 
LOCATION:Kinder und Jugendzentrum Point, Burgundische Straße 3, 50181 Bedburg
END:VEVENT
BEGIN:VEVENT
DTSTAMP:20260424T184949
DTSTART;TZID=Europe/Berlin:20260202T093000
DTEND;TZID=Europe/Berlin:20260202T103000
UID:263204001-20260202T093000@DRKKREISVERBAND RHEIN-ERFT E.V.
SUMMARY:Seniorengymnastik Bedburg - Fit für die Familie (263204001) 
LOCATION:Kinder und Jugendzentrum Point, Burgundische Straße 3, 50181 Bedburg
END:VEVENT
BEGIN:VEVENT
DTSTAMP:20260424T184949
DTSTART;TZID=Europe/Berlin:20260209T093000
DTEND;TZID=Europe/Berlin:20260209T103000
UID:263204001-20260209T093000@DRKKREISVERBAND RHEIN-ERFT E.V.
SUMMARY:Seniorengymnastik Bedburg - Fit für die Familie (263204001) 
LOCATION:Kinder und Jugendzentrum Point, Burgundische Straße 3, 50181 Bedburg
END:VEVENT
BEGIN:VEVENT
DTSTAMP:20260424T184949
DTSTART;TZID=Europe/Berlin:20260223T093000
DTEND;TZID=Europe/Berlin:20260223T103000
UID:263204001-20260223T093000@DRKKREISVERBAND RHEIN-ERFT E.V.
SUMMARY:Seniorengymnastik Bedburg - Fit für die Familie (263204001) 
LOCATION:Kinder und Jugendzentrum Point, Burgundische Straße 3, 50181 Bedburg
END:VEVENT
BEGIN:VEVENT
DTSTAMP:20260424T184949
DTSTART;TZID=Europe/Berlin:20260323T093000
DTEND;TZID=Europe/Berlin:20260323T103000
UID:263204001-20260323T093000@DRKKREISVERBAND RHEIN-ERFT E.V.
SUMMARY:Seniorengymnastik Bedburg - Fit für die Familie (263204001) 
LOCATION:Kinder und Jugendzentrum Point, Burgundische Straße 3, 50181 Bedburg
END:VEVENT
BEGIN:VEVENT
DTSTAMP:20260424T184949
DTSTART;TZID=Europe/Berlin:20260413T093000
DTEND;TZID=Europe/Berlin:20260413T103000
UID:263204001-20260413T093000@DRKKREISVERBAND RHEIN-ERFT E.V.
SUMMARY:Seniorengymnastik Bedburg - Fit für die Familie (263204001) 
LOCATION:Kinder und Jugendzentrum Point, Burgundische Straße 3, 50181 Bedburg
END:VEVENT
BEGIN:VEVENT
DTSTAMP:20260424T184949
DTSTART;TZID=Europe/Berlin:20260420T093000
DTEND;TZID=Europe/Berlin:20260420T103000
UID:263204001-20260420T093000@DRKKREISVERBAND RHEIN-ERFT E.V.
SUMMARY:Seniorengymnastik Bedburg - Fit für die Familie (263204001) 
LOCATION:Kinder und Jugendzentrum Point, Burgundische Straße 3, 50181 Bedburg
END:VEVENT
BEGIN:VEVENT
DTSTAMP:20260424T184949
DTSTART;TZID=Europe/Berlin:20260427T093000
DTEND;TZID=Europe/Berlin:20260427T103000
UID:263204001-20260427T093000@DRKKREISVERBAND RHEIN-ERFT E.V.
SUMMARY:Seniorengymnastik Bedburg - Fit für die Familie (263204001) 
LOCATION:Kinder und Jugendzentrum Point, Burgundische Straße 3, 50181 Bedburg
END:VEVENT
BEGIN:VEVENT
DTSTAMP:20260424T184949
DTSTART;TZID=Europe/Berlin:20260504T093000
DTEND;TZID=Europe/Berlin:20260504T103000
UID:263204001-20260504T093000@DRKKREISVERBAND RHEIN-ERFT E.V.
SUMMARY:Seniorengymnastik Bedburg - Fit für die Familie (263204001) 
LOCATION:Kinder und Jugendzentrum Point, Burgundische Straße 3, 50181 Bedburg
END:VEVENT
BEGIN:VEVENT
DTSTAMP:20260424T184949
DTSTART;TZID=Europe/Berlin:20260511T093000
DTEND;TZID=Europe/Berlin:20260511T103000
UID:263204001-20260511T093000@DRKKREISVERBAND RHEIN-ERFT E.V.
SUMMARY:Seniorengymnastik Bedburg - Fit für die Familie (263204001) 
LOCATION:Kinder und Jugendzentrum Point, Burgundische Straße 3, 50181 Bedburg
END:VEVENT
BEGIN:VEVENT
DTSTAMP:20260424T184949
DTSTART;TZID=Europe/Berlin:20260518T093000
DTEND;TZID=Europe/Berlin:20260518T103000
UID:263204001-20260518T093000@DRKKREISVERBAND RHEIN-ERFT E.V.
SUMMARY:Seniorengymnastik Bedburg - Fit für die Familie (263204001) 
LOCATION:Kinder und Jugendzentrum Point, Burgundische Straße 3, 50181 Bedburg
END:VEVENT
BEGIN:VEVENT
DTSTAMP:20260424T184949
DTSTART;TZID=Europe/Berlin:20260601T093000
DTEND;TZID=Europe/Berlin:20260601T103000
UID:263204001-20260601T093000@DRKKREISVERBAND RHEIN-ERFT E.V.
SUMMARY:Seniorengymnastik Bedburg - Fit für die Familie (263204001) 
LOCATION:Kinder und Jugendzentrum Point, Burgundische Straße 3, 50181 Bedburg
END:VEVENT
BEGIN:VEVENT
DTSTAMP:20260424T184949
DTSTART;TZID=Europe/Berlin:20260608T093000
DTEND;TZID=Europe/Berlin:20260608T103000
UID:263204001-20260608T093000@DRKKREISVERBAND RHEIN-ERFT E.V.
SUMMARY:Seniorengymnastik Bedburg - Fit für die Familie (263204001) 
LOCATION:Kinder und Jugendzentrum Point, Burgundische Straße 3, 50181 Bedburg
END:VEVENT
BEGIN:VEVENT
DTSTAMP:20260424T184949
DTSTART;TZID=Europe/Berlin:20260615T093000
DTEND;TZID=Europe/Berlin:20260615T103000
UID:263204001-20260615T093000@DRKKREISVERBAND RHEIN-ERFT E.V.
SUMMARY:Seniorengymnastik Bedburg - Fit für die Familie (263204001) 
LOCATION:Kinder und Jugendzentrum Point, Burgundische Straße 3, 50181 Bedburg
END:VEVENT
BEGIN:VEVENT
DTSTAMP:20260424T184949
DTSTART;TZID=Europe/Berlin:20260622T093000
DTEND;TZID=Europe/Berlin:20260622T103000
UID:263204001-20260622T093000@DRKKREISVERBAND RHEIN-ERFT E.V.
SUMMARY:Seniorengymnastik Bedburg - Fit für die Familie (263204001) 
LOCATION:Kinder und Jugendzentrum Point, Burgundische Straße 3, 50181 Bedburg
END:VEVENT
BEGIN:VEVENT
DTSTAMP:20260424T184949
DTSTART;TZID=Europe/Berlin:20260629T093000
DTEND;TZID=Europe/Berlin:20260629T103000
UID:263204001-20260629T093000@DRKKREISVERBAND RHEIN-ERFT E.V.
SUMMARY:Seniorengymnastik Bedburg - Fit für die Familie (263204001) 
LOCATION:Kinder und Jugendzentrum Point, Burgundische Straße 3, 50181 Bedburg
END:VEVENT
BEGIN:VEVENT
DTSTAMP:20260424T184949
DTSTART;TZID=Europe/Berlin:20260706T093000
DTEND;TZID=Europe/Berlin:20260706T103000
UID:263204001-20260706T093000@DRKKREISVERBAND RHEIN-ERFT E.V.
SUMMARY:Seniorengymnastik Bedburg - Fit für die Familie (263204001) 
LOCATION:Kinder und Jugendzentrum Point, Burgundische Straße 3, 50181 Bedburg
END:VEVENT
BEGIN:VEVENT
DTSTAMP:20260424T184949
DTSTART;TZID=Europe/Berlin:20260713T093000
DTEND;TZID=Europe/Berlin:20260713T103000
UID:263204001-20260713T093000@DRKKREISVERBAND RHEIN-ERFT E.V.
SUMMARY:Seniorengymnastik Bedburg - Fit für die Familie (263204001) 
LOCATION:Kinder und Jugendzentrum Point, Burgundische Straße 3, 50181 Bedburg
END:VEVENT
END:VCALENDAR