BEGIN:VCALENDAR
VERSION:2.0
PRODID:https://www.kufer.de/kuferweb / DE
METHOD:PUBLISH
CALSCALE:GREGORIAN
X-WR-TIMEZONE:Europe/Berlin
BEGIN:VTIMEZONE
TZID:Europe/Berlin
X-LIC-LOCATION:Europe/Berlin
BEGIN:DAYLIGHT
TZOFFSETFROM:+0100
TZOFFSETTO:+0200
TZNAME:CEST
DTSTART:19700329T020000
RRULE:FREQ=YEARLY;INTERVAL=1;BYDAY=-1SU;BYMONTH=3
END:DAYLIGHT
BEGIN:STANDARD
TZOFFSETFROM:+0200
TZOFFSETTO:+0100
TZNAME:CET
DTSTART:19701025T030000
RRULE:FREQ=YEARLY;INTERVAL=1;BYDAY=-1SU;BYMONTH=10
END:STANDARD
END:VTIMEZONE
BEGIN:VEVENT
DTSTAMP:20260424T185035
DTSTART;TZID=Europe/Berlin:20260106T090000
DTEND;TZID=Europe/Berlin:20260106T100000
UID:263204002-20260106T090000@DRKKREISVERBAND RHEIN-ERFT E.V.
SUMMARY:Seniorengymnastik Bedburg - Fit für die Familie (263204002) 
LOCATION:Kinder und Jugendzentrum Point, Burgundische Straße 3, 50181 Bedburg
END:VEVENT
BEGIN:VEVENT
DTSTAMP:20260424T185035
DTSTART;TZID=Europe/Berlin:20260113T090000
DTEND;TZID=Europe/Berlin:20260113T100000
UID:263204002-20260113T090000@DRKKREISVERBAND RHEIN-ERFT E.V.
SUMMARY:Seniorengymnastik Bedburg - Fit für die Familie (263204002) 
LOCATION:Kinder und Jugendzentrum Point, Burgundische Straße 3, 50181 Bedburg
END:VEVENT
BEGIN:VEVENT
DTSTAMP:20260424T185035
DTSTART;TZID=Europe/Berlin:20260120T090000
DTEND;TZID=Europe/Berlin:20260120T100000
UID:263204002-20260120T090000@DRKKREISVERBAND RHEIN-ERFT E.V.
SUMMARY:Seniorengymnastik Bedburg - Fit für die Familie (263204002) 
LOCATION:Kinder und Jugendzentrum Point, Burgundische Straße 3, 50181 Bedburg
END:VEVENT
BEGIN:VEVENT
DTSTAMP:20260424T185035
DTSTART;TZID=Europe/Berlin:20260127T090000
DTEND;TZID=Europe/Berlin:20260127T100000
UID:263204002-20260127T090000@DRKKREISVERBAND RHEIN-ERFT E.V.
SUMMARY:Seniorengymnastik Bedburg - Fit für die Familie (263204002) 
LOCATION:Kinder und Jugendzentrum Point, Burgundische Straße 3, 50181 Bedburg
END:VEVENT
BEGIN:VEVENT
DTSTAMP:20260424T185035
DTSTART;TZID=Europe/Berlin:20260203T090000
DTEND;TZID=Europe/Berlin:20260203T100000
UID:263204002-20260203T090000@DRKKREISVERBAND RHEIN-ERFT E.V.
SUMMARY:Seniorengymnastik Bedburg - Fit für die Familie (263204002) 
LOCATION:Kinder und Jugendzentrum Point, Burgundische Straße 3, 50181 Bedburg
END:VEVENT
BEGIN:VEVENT
DTSTAMP:20260424T185035
DTSTART;TZID=Europe/Berlin:20260210T090000
DTEND;TZID=Europe/Berlin:20260210T100000
UID:263204002-20260210T090000@DRKKREISVERBAND RHEIN-ERFT E.V.
SUMMARY:Seniorengymnastik Bedburg - Fit für die Familie (263204002) 
LOCATION:Kinder und Jugendzentrum Point, Burgundische Straße 3, 50181 Bedburg
END:VEVENT
BEGIN:VEVENT
DTSTAMP:20260424T185035
DTSTART;TZID=Europe/Berlin:20260217T090000
DTEND;TZID=Europe/Berlin:20260217T100000
UID:263204002-20260217T090000@DRKKREISVERBAND RHEIN-ERFT E.V.
SUMMARY:Seniorengymnastik Bedburg - Fit für die Familie (263204002) 
LOCATION:Kinder und Jugendzentrum Point, Burgundische Straße 3, 50181 Bedburg
END:VEVENT
BEGIN:VEVENT
DTSTAMP:20260424T185035
DTSTART;TZID=Europe/Berlin:20260224T090000
DTEND;TZID=Europe/Berlin:20260224T100000
UID:263204002-20260224T090000@DRKKREISVERBAND RHEIN-ERFT E.V.
SUMMARY:Seniorengymnastik Bedburg - Fit für die Familie (263204002) 
LOCATION:Kinder und Jugendzentrum Point, Burgundische Straße 3, 50181 Bedburg
END:VEVENT
BEGIN:VEVENT
DTSTAMP:20260424T185035
DTSTART;TZID=Europe/Berlin:20260324T090000
DTEND;TZID=Europe/Berlin:20260324T100000
UID:263204002-20260324T090000@DRKKREISVERBAND RHEIN-ERFT E.V.
SUMMARY:Seniorengymnastik Bedburg - Fit für die Familie (263204002) 
LOCATION:Kinder und Jugendzentrum Point, Burgundische Straße 3, 50181 Bedburg
END:VEVENT
BEGIN:VEVENT
DTSTAMP:20260424T185035
DTSTART;TZID=Europe/Berlin:20260414T090000
DTEND;TZID=Europe/Berlin:20260414T100000
UID:263204002-20260414T090000@DRKKREISVERBAND RHEIN-ERFT E.V.
SUMMARY:Seniorengymnastik Bedburg - Fit für die Familie (263204002) 
LOCATION:Kinder und Jugendzentrum Point, Burgundische Straße 3, 50181 Bedburg
END:VEVENT
BEGIN:VEVENT
DTSTAMP:20260424T185035
DTSTART;TZID=Europe/Berlin:20260421T090000
DTEND;TZID=Europe/Berlin:20260421T100000
UID:263204002-20260421T090000@DRKKREISVERBAND RHEIN-ERFT E.V.
SUMMARY:Seniorengymnastik Bedburg - Fit für die Familie (263204002) 
LOCATION:Kinder und Jugendzentrum Point, Burgundische Straße 3, 50181 Bedburg
END:VEVENT
BEGIN:VEVENT
DTSTAMP:20260424T185035
DTSTART;TZID=Europe/Berlin:20260428T090000
DTEND;TZID=Europe/Berlin:20260428T100000
UID:263204002-20260428T090000@DRKKREISVERBAND RHEIN-ERFT E.V.
SUMMARY:Seniorengymnastik Bedburg - Fit für die Familie (263204002) 
LOCATION:Kinder und Jugendzentrum Point, Burgundische Straße 3, 50181 Bedburg
END:VEVENT
BEGIN:VEVENT
DTSTAMP:20260424T185035
DTSTART;TZID=Europe/Berlin:20260505T090000
DTEND;TZID=Europe/Berlin:20260505T100000
UID:263204002-20260505T090000@DRKKREISVERBAND RHEIN-ERFT E.V.
SUMMARY:Seniorengymnastik Bedburg - Fit für die Familie (263204002) 
LOCATION:Kinder und Jugendzentrum Point, Burgundische Straße 3, 50181 Bedburg
END:VEVENT
BEGIN:VEVENT
DTSTAMP:20260424T185035
DTSTART;TZID=Europe/Berlin:20260512T090000
DTEND;TZID=Europe/Berlin:20260512T100000
UID:263204002-20260512T090000@DRKKREISVERBAND RHEIN-ERFT E.V.
SUMMARY:Seniorengymnastik Bedburg - Fit für die Familie (263204002) 
LOCATION:Kinder und Jugendzentrum Point, Burgundische Straße 3, 50181 Bedburg
END:VEVENT
BEGIN:VEVENT
DTSTAMP:20260424T185035
DTSTART;TZID=Europe/Berlin:20260519T090000
DTEND;TZID=Europe/Berlin:20260519T100000
UID:263204002-20260519T090000@DRKKREISVERBAND RHEIN-ERFT E.V.
SUMMARY:Seniorengymnastik Bedburg - Fit für die Familie (263204002) 
LOCATION:Kinder und Jugendzentrum Point, Burgundische Straße 3, 50181 Bedburg
END:VEVENT
BEGIN:VEVENT
DTSTAMP:20260424T185035
DTSTART;TZID=Europe/Berlin:20260526T090000
DTEND;TZID=Europe/Berlin:20260526T100000
UID:263204002-20260526T090000@DRKKREISVERBAND RHEIN-ERFT E.V.
SUMMARY:Seniorengymnastik Bedburg - Fit für die Familie (263204002) 
LOCATION:Kinder und Jugendzentrum Point, Burgundische Straße 3, 50181 Bedburg
END:VEVENT
BEGIN:VEVENT
DTSTAMP:20260424T185035
DTSTART;TZID=Europe/Berlin:20260602T090000
DTEND;TZID=Europe/Berlin:20260602T100000
UID:263204002-20260602T090000@DRKKREISVERBAND RHEIN-ERFT E.V.
SUMMARY:Seniorengymnastik Bedburg - Fit für die Familie (263204002) 
LOCATION:Kinder und Jugendzentrum Point, Burgundische Straße 3, 50181 Bedburg
END:VEVENT
BEGIN:VEVENT
DTSTAMP:20260424T185035
DTSTART;TZID=Europe/Berlin:20260609T090000
DTEND;TZID=Europe/Berlin:20260609T100000
UID:263204002-20260609T090000@DRKKREISVERBAND RHEIN-ERFT E.V.
SUMMARY:Seniorengymnastik Bedburg - Fit für die Familie (263204002) 
LOCATION:Kinder und Jugendzentrum Point, Burgundische Straße 3, 50181 Bedburg
END:VEVENT
BEGIN:VEVENT
DTSTAMP:20260424T185035
DTSTART;TZID=Europe/Berlin:20260616T090000
DTEND;TZID=Europe/Berlin:20260616T100000
UID:263204002-20260616T090000@DRKKREISVERBAND RHEIN-ERFT E.V.
SUMMARY:Seniorengymnastik Bedburg - Fit für die Familie (263204002) 
LOCATION:Kinder und Jugendzentrum Point, Burgundische Straße 3, 50181 Bedburg
END:VEVENT
BEGIN:VEVENT
DTSTAMP:20260424T185035
DTSTART;TZID=Europe/Berlin:20260623T090000
DTEND;TZID=Europe/Berlin:20260623T100000
UID:263204002-20260623T090000@DRKKREISVERBAND RHEIN-ERFT E.V.
SUMMARY:Seniorengymnastik Bedburg - Fit für die Familie (263204002) 
LOCATION:Kinder und Jugendzentrum Point, Burgundische Straße 3, 50181 Bedburg
END:VEVENT
BEGIN:VEVENT
DTSTAMP:20260424T185035
DTSTART;TZID=Europe/Berlin:20260630T090000
DTEND;TZID=Europe/Berlin:20260630T100000
UID:263204002-20260630T090000@DRKKREISVERBAND RHEIN-ERFT E.V.
SUMMARY:Seniorengymnastik Bedburg - Fit für die Familie (263204002) 
LOCATION:Kinder und Jugendzentrum Point, Burgundische Straße 3, 50181 Bedburg
END:VEVENT
BEGIN:VEVENT
DTSTAMP:20260424T185035
DTSTART;TZID=Europe/Berlin:20260707T090000
DTEND;TZID=Europe/Berlin:20260707T100000
UID:263204002-20260707T090000@DRKKREISVERBAND RHEIN-ERFT E.V.
SUMMARY:Seniorengymnastik Bedburg - Fit für die Familie (263204002) 
LOCATION:Kinder und Jugendzentrum Point, Burgundische Straße 3, 50181 Bedburg
END:VEVENT
BEGIN:VEVENT
DTSTAMP:20260424T185035
DTSTART;TZID=Europe/Berlin:20260714T090000
DTEND;TZID=Europe/Berlin:20260714T100000
UID:263204002-20260714T090000@DRKKREISVERBAND RHEIN-ERFT E.V.
SUMMARY:Seniorengymnastik Bedburg - Fit für die Familie (263204002) 
LOCATION:Kinder und Jugendzentrum Point, Burgundische Straße 3, 50181 Bedburg
END:VEVENT
END:VCALENDAR